BEGIN:VCALENDAR
VERSION:2.0
PRODID:-//hacksw/handcal//NONSGML v1.0//EN
BEGIN:VEVENT
DTSTAMP:20260424T150000Z
DTSTART:20260424T150000Z
DTEND:20260424T150000Z

GEO:36.16120430000001;-86.7784062
LOCATION:116 Rep. John Lewis Way North         Nashville Tennessee 37219
SUMMARY:Jim Gaffigan ON SALE!
URL:https://www.ryman.com/events/detail/2026-11-14-jim-gaffigan-at-8-pm
DESCRIPTION:Jim Gaffigan\nDate: Saturday November 14, 2026 8:00 PM\nOn sale: Friday April 24, 202610:00 AM
END:VEVENT
END:VCALENDAR