BEGIN:VCALENDAR
VERSION:2.0
PRODID:-//hacksw/handcal//NONSGML v1.0//EN
BEGIN:VEVENT
DTSTAMP:20260501T150000Z
DTSTART:20260501T150000Z
DTEND:20260501T150000Z

GEO:36.16120430000001;-86.7784062
LOCATION:116 Rep. John Lewis Way North         Nashville Tennessee 37219
SUMMARY:The Milk Carton Kids ON SALE!
URL:https://www.ryman.com/events/detail/2026-11-08-the-milk-carton-kids-at-7-30-pm
DESCRIPTION:The Milk Carton Kids\nDate: Sunday November 8, 2026 7:30 PM\nOn sale: Friday May 1, 202610:00 AM
END:VEVENT
END:VCALENDAR