BEGIN:VCALENDAR
VERSION:2.0
PRODID:-//hacksw/handcal//NONSGML v1.0//EN
BEGIN:VEVENT
DTSTAMP:20260424T150000Z
DTSTART:20260424T150000Z
DTEND:20260424T150000Z

GEO:36.16120430000001;-86.7784062
LOCATION:116 Rep. John Lewis Way North         Nashville Tennessee 37219
SUMMARY:Little Feat ON SALE!
URL:https://www.ryman.com/events/detail/2026-09-10-little-feat-at-7-30-pm
DESCRIPTION:Little Feat\nDate: Thursday September 10, 2026 7:30 PM\nOn sale: Friday April 24, 202610:00 AM
END:VEVENT
END:VCALENDAR