BEGIN:VCALENDAR
VERSION:2.0
PRODID:-//hacksw/handcal//NONSGML v1.0//EN
BEGIN:VEVENT
DTSTAMP:20260424T140000Z
DTSTART:20260424T140000Z
DTEND:20260424T140000Z

GEO:36.16120430000001;-86.7784062
LOCATION:116 Rep. John Lewis Way North         Nashville Tennessee 37219
SUMMARY:Alan Parsons Live Project ON SALE!
URL:https://www.ryman.com/events/detail/2026-07-23-alan-parsons-at-7-30-pm
DESCRIPTION:Alan Parsons Live Project\nDate: Thursday July 23, 2026 7:30 PM\nOn sale: Friday April 24, 2026 9:00 AM
END:VEVENT
END:VCALENDAR